BEGIN:VCALENDAR
VERSION:2.0
PRODID:-//wp-events-plugin.com//7.2.3.1//EN
BEGIN:VEVENT
UID:14@radars-g4sjm.club
DTSTART;VALUE=DATE:20230826
DTEND;VALUE=DATE:20230829
DTSTAMP:20230715T101625Z
URL:https://radars-g4sjm.club/events/biwota-british-inland-waterways-on-th
 e-air/
SUMMARY:BiWota - British Inland Waterways On The air
DESCRIPTION:BiWota is the 'British Inland Waterways On The air' Event.\n\nB
 iWota (BiWota) 2023  –  The next British inland Waterways on the air (
 BiWota) event will be held over the August bank holiday weekend: 26 to 28 
 August 2023.\n\nThe event is open to all Amateurs who are boaters\, cyclis
 ts\, walkers and other users of the canals\, rivers\, towpaths\, riverbank
 s for work or recreation. Many clubs and individual Amateurs on or near th
 e UK inland waterways obtain Special Event Station (SES) callsigns. Others
  operate mobile or portable using their own callsigns. Many more like to c
 ontact the BiWota stations. It is also a good chance for WAB enthusiasts t
 o get some rare WAB squares. The primary bands will be 40m (7MHz) and 2m (
 144MHz SSB and FM) but all bands will be acceptable. Tell your friends and
  colleagues catch you on the air…….The aim of the event is to bring to
 gether Radio Amateurs who regularly use the waterways to celebrate their h
 obby and raise awareness of the UK waterways.\n\nIf you would like to take
  part this year could you please register www.nharg.org.uk/biwota\n\nStefa
 n Latimer M0OSL from Nunsfield House  ARG is coordinating the list of par
 ticipating stations so he will confirm details with you.You will need to 
 supply the following details\n\n 	Callsign (SES\, or personal)\n 	Club Cal
 lsign (if it’s a club station)\n 	Operators name(s) (or club contact and
  callsign)\n 	Boat or Radio Club name\n 	Station Location inc waterway\n 	
 Planned Bands\n 	Home station or Radio Club Location\n 	Station Maidenhead
  locator and WAB square (if known)\n\nUpdates can be found on the BiWota F
 acebook page. https://www.facebook.com/BIWOTA/\n\nIf you want more informa
 tion about BiWota please contact John Rogers M0JAV on m0jav@rsgb.org.uk \
 n\n&nbsp\;\n\n&nbsp\;
ATTACH;FMTTYPE=image/jpeg:https://radars-g4sjm.club/wp-content/uploads/202
 3/07/BiWota-Logo.jpg
CATEGORIES:Events
LOCATION:Ripon Racecourse Marina\, Boroughbridge Road\, Ripon\, North Yorks
 hire\, HG4 1UG\, England\, United Kingdom
X-APPLE-STRUCTURED-LOCATION;VALUE=URI;X-ADDRESS=Boroughbridge Road\, Ripon\
 , North Yorkshire\, HG4 1UG\, England\, United Kingdom;X-APPLE-RADIUS=100;
 X-TITLE=Ripon Racecourse Marina:geo:0,0
END:VEVENT
END:VCALENDAR