BEGIN:VCALENDAR
VERSION:2.0
PRODID:-//wp-events-plugin.com//7.2.3.1//EN
BEGIN:VEVENT
UID:13@radars-g4sjm.club
DTSTART;VALUE=DATE:20231020
DTEND;VALUE=DATE:20231023
DTSTAMP:20230712T084850Z
URL:https://radars-g4sjm.club/events/jota-joti-2023/
SUMMARY:JOTA–JOTI 2023
DESCRIPTION:\n\n\nClipped from\; https://www.scouts.org.uk/news/2023/march/
 start-getting-ready-for-jota-joti-2023/\nImagine speaking to other Scout g
 roups across the world? That’s what millions of Scouts did last October 
 when they took part in the annual JOTA–JOTI event.\n\n\n\n\n\n\n\nJOTA
 –JOTI is a Jamboree with a twist. It's a brilliant event that Scouts all
  over the world take part in every year. The best part is that it’s comp
 letely free.\n\nIt’s taking place on the 20 to 22 October 2023 this year
 .\n\nAlthough it's a little while away yet\, you can sign up now. By regis
 tering now\, you can find out handy tips and stay tuned for updates\, such
  as the programme launch and this year's challenges!\n\nAs a parent\, car
 er or young member\, you can contact your local Scout group to see if the
 y are participating in this year's JOTA-JOTI activities. If they aren't\, 
 you can still register and join as an individual.\n\nAs a section\, you ca
 n reach out to your local Scout community and make plans\, so you’ll be 
 super prepared when the weekend comes around. Why not see if a local JOTA-
 JOTI event is happening near you?\n\n\n\n
ATTACH;FMTTYPE=image/jpeg:https://radars-g4sjm.club/wp-content/uploads/202
 3/07/6a5c185de57583e61a9402ec712ce9c47b60b751.jpg
CATEGORIES:Events
END:VEVENT
END:VCALENDAR