BEGIN:VCALENDAR
VERSION:2.0
PRODID:-//wp-events-plugin.com//7.2.3.1//EN
BEGIN:VEVENT
UID:66@radars-g4sjm.club
DTSTART:20230807T193000Z
DTEND:20230807T203000Z
DTSTAMP:20230807T115801Z
URL:https://radars-g4sjm.club/events/monday-evening-net-on-2m-gb3hg/
SUMMARY:Monday Evening Net on 2m GB3HG
DESCRIPTION:Join us on Monday evenings for a chat. Andy\; M0DCD will be wai
 ting for you on 2m GB3HG repeater.
ATTACH;FMTTYPE=image/jpeg:https://radars-g4sjm.club/wp-content/uploads/202
 3/08/38053.webp
CATEGORIES:Events
END:VEVENT
END:VCALENDAR