BEGIN:VCALENDAR
VERSION:2.0
PRODID:-//wp-events-plugin.com//7.2.3.1//EN
BEGIN:VEVENT
UID:61@radars-g4sjm.club
DTSTART:20230808T183000Z
DTEND:20230808T200000Z
DTSTAMP:20230804T220412Z
URL:https://radars-g4sjm.club/events/practical-evening-3/
SUMMARY:Practical Evening
DESCRIPTION:An evening where you can learn to operate our radios or use our
  bench equipment for your latest projects\, whatever they may be.\n\nThis 
 week....\n\n"CAT in the Shack" time.\n\nBring along your rigs and laptops 
 (or even Raspberry Pi's) and we'll see if they'll talk to each other with 
 M0DCD
ATTACH;FMTTYPE=image/jpeg:https://radars-g4sjm.club/wp-content/uploads/202
 3/08/IMG_2384-scaled-e1690878581683.jpeg
CATEGORIES:Club Meeting,Training
LOCATION:The Bunker\, 21\, Water Skellgate\, Ripon\, North Yorkshire\, HG4 
 1BH\, England\, United Kingdom
X-APPLE-STRUCTURED-LOCATION;VALUE=URI;X-ADDRESS=21\, Water Skellgate\, Ripo
 n\, North Yorkshire\, HG4 1BH\, England\, United Kingdom;X-APPLE-RADIUS=10
 0;X-TITLE=The Bunker:geo:0,0
END:VEVENT
END:VCALENDAR