BEGIN:VCALENDAR
VERSION:2.0
PRODID:-//wp-events-plugin.com//7.2.3.1//EN
BEGIN:VEVENT
UID:69@radars-g4sjm.club
DTSTART:20240324T100000Z
DTEND:20240324T160000Z
DTSTAMP:20240201T224922Z
URL:https://radars-g4sjm.club/events/rally-spring-2024/
SUMMARY:Rally Spring 2024
DESCRIPTION:Join Ripon and district ARS for our spring rally at our new ral
 ly venue\; Great Ouseburn Village Hall\, Lightmire Ln\, Great Ouseburn\, Y
 ork YO26 9RL (a few minutes from the A1).\n\nTraders from 7am to 9.30am at
  the latest\, tables £10 each.\n\nDoors open at 10am and entrance is £3 
 per person.\n\nHot drinks and bacon butties will be available\, as usual.\
 n\nPlenty of on site parking!
LOCATION:Great Ouseburn Village Hall\, Lightmire Ln\, Great Ouseburn\, York
 \, YO26 9RL\, North Yorkshire\, United Kingdom
X-APPLE-STRUCTURED-LOCATION;VALUE=URI;X-ADDRESS=Lightmire Ln\, Great Ousebu
 rn\, York\, YO26 9RL\, North Yorkshire\, United Kingdom;X-APPLE-RADIUS=100
 ;X-TITLE=Great Ouseburn Village Hall:geo:0,0
END:VEVENT
END:VCALENDAR