BEGIN:VCALENDAR
VERSION:2.0
PRODID:-//wp-events-plugin.com//7.2.3.1//EN
BEGIN:VEVENT
UID:12@radars-g4sjm.club
DTSTART:20230902T130000Z
DTEND:20230903T130000Z
DTSTAMP:20230708T160022Z
URL:https://radars-g4sjm.club/events/ssb-fd/
SUMMARY:HF SSB FD
DESCRIPTION:2023 HF SSB Field Day - HF SSB FD - Saturday 2nd - Sunday 3rd S
 eptember 2023 1300-1300 UTC\n\nRSGB page here https://www.rsgbcc.org/hf/ru
 les/2023/rnfd.shtml\n\n&nbsp\;
ATTACH;FMTTYPE=image/jpeg:https://radars-g4sjm.club/wp-content/uploads/202
 3/07/DSC00197-scaled.jpg
CATEGORIES:Events
END:VEVENT
END:VCALENDAR