BEGIN:VCALENDAR
VERSION:2.0
PRODID:-//wp-events-plugin.com//7.2.3.1//EN
BEGIN:VEVENT
UID:5@radars-g4sjm.club
DTSTART:20230626T193000Z
DTEND:20230626T210000Z
DTSTAMP:20230622T224444Z
URL:https://radars-g4sjm.club/events/tucnac-training/
SUMMARY:TUCNAC Training
DESCRIPTION:TUCNAC Training
END:VEVENT
END:VCALENDAR