BEGIN:VCALENDAR
VERSION:2.0
PRODID:-//wp-events-plugin.com//7.2.3.1//EN
BEGIN:VEVENT
UID:6@radars-g4sjm.club
DTSTART:20230704T200000Z
DTEND:20230704T213000Z
DTSTAMP:20230703T090609Z
URL:https://radars-g4sjm.club/events/ukac-2m-contesting-from-the-bunker/
SUMMARY:UKAC 2m contesting from the Bunker
DESCRIPTION:1st Tuesday of the month\, 2m contesting from the Bunker\n\n&nb
 sp\;\n\nRules here https://www.rsgbcc.org/cgi-bin/contest_rules.pl?year=20
 23&amp\;contest=2mukac
ATTACH;FMTTYPE=image/jpeg:https://radars-g4sjm.club/wp-content/uploads/202
 3/07/RSGB-Logo.png
END:VEVENT
END:VCALENDAR