BEGIN:VCALENDAR
VERSION:2.0
PRODID:-//wp-events-plugin.com//7.2.3.1//EN
BEGIN:VEVENT
UID:4@radars-g4sjm.club
DTSTART;VALUE=DATE:20230701
DTEND;VALUE=DATE:20230703
DTSTAMP:20230622T215434Z
URL:https://radars-g4sjm.club/events/vhf-national-field-day/
SUMMARY:VHF National Field Day
DESCRIPTION:VHF National Field Day
END:VEVENT
END:VCALENDAR