BEGIN:VCALENDAR
VERSION:2.0
PRODID:-//wp-events-plugin.com//7.2.3.1//EN
BEGIN:VEVENT
UID:1@radars-g4sjm.club
DTSTART:20230622T193000Z
DTEND:20230622T213000Z
DTSTAMP:20230623T130921Z
URL:https://radars-g4sjm.club/events/weekly-club-meeting/
SUMMARY:Weekly Club Meeting
DESCRIPTION:Weekly Club Meeting at the Bunker
CATEGORIES:Club Meeting
END:VEVENT
END:VCALENDAR